BEGIN:VCALENDAR
VERSION:2.0
PRODID:-//Torrey Pines High School Foundation - ECPv6.15.20//NONSGML v1.0//EN
CALSCALE:GREGORIAN
METHOD:PUBLISH
X-WR-CALNAME:Torrey Pines High School Foundation
X-ORIGINAL-URL:https://torreypinesfoundation.org
X-WR-CALDESC:Events for Torrey Pines High School Foundation
REFRESH-INTERVAL;VALUE=DURATION:PT1H
X-Robots-Tag:noindex
X-PUBLISHED-TTL:PT1H
BEGIN:VTIMEZONE
TZID:America/Los_Angeles
BEGIN:DAYLIGHT
TZOFFSETFROM:-0800
TZOFFSETTO:-0700
TZNAME:PDT
DTSTART:20240310T100000
END:DAYLIGHT
BEGIN:STANDARD
TZOFFSETFROM:-0700
TZOFFSETTO:-0800
TZNAME:PST
DTSTART:20241103T090000
END:STANDARD
BEGIN:DAYLIGHT
TZOFFSETFROM:-0800
TZOFFSETTO:-0700
TZNAME:PDT
DTSTART:20250309T100000
END:DAYLIGHT
BEGIN:STANDARD
TZOFFSETFROM:-0700
TZOFFSETTO:-0800
TZNAME:PST
DTSTART:20251102T090000
END:STANDARD
BEGIN:DAYLIGHT
TZOFFSETFROM:-0800
TZOFFSETTO:-0700
TZNAME:PDT
DTSTART:20260308T100000
END:DAYLIGHT
BEGIN:STANDARD
TZOFFSETFROM:-0700
TZOFFSETTO:-0800
TZNAME:PST
DTSTART:20261101T090000
END:STANDARD
END:VTIMEZONE
BEGIN:VEVENT
DTSTART;TZID=America/Los_Angeles:20251003T190000
DTEND;TZID=America/Los_Angeles:20251003T203000
DTSTAMP:20260424T141848
CREATED:20250909T204118Z
LAST-MODIFIED:20250909T204316Z
UID:10000562-1759518000-1759523400@torreypinesfoundation.org
SUMMARY:Fall For Dance
DESCRIPTION:TP Dance Company presents “Fall For Dance” \nPlease arrive on time.  Doors will close at show time. \nPURCHASE TICKETS HERE \nQuestions: dancepe@tphsfoundation.org \nFlower Bouquets may be purchased HERE.
URL:https://torreypinesfoundation.org/event/fall-for-dance/
LOCATION:TPHS Proscenium Theatre\, 3710 Del Mar Heights Road\, San Diego\, CA\, 92130\, United States
CATEGORIES:Foundation Events,Parent Events,TPHS Events
ATTACH;FMTTYPE=image/webp:https://torreypinesfoundation.org/wp-content/uploads/2025/09/SOCIAL-Fall-for-Dance.webp
ORGANIZER;CN="Sarah Kaye":MAILTO:sarah.kaye@sduhsd.net
END:VEVENT
BEGIN:VEVENT
DTSTART;TZID=America/Los_Angeles:20251004T163000
DTEND;TZID=America/Los_Angeles:20251004T180000
DTSTAMP:20260424T141848
CREATED:20250909T204441Z
LAST-MODIFIED:20250909T204441Z
UID:10000563-1759595400-1759600800@torreypinesfoundation.org
SUMMARY:Fall For Dance
DESCRIPTION:TP Dance Company presents “Fall For Dance” \nPlease arrive on time.  Doors will close at show time. \nPURCHASE TICKETS HERE \nQuestions: dancepe@tphsfoundation.org \nFlower Bouquets may be purchased HERE.
URL:https://torreypinesfoundation.org/event/fall-for-dance-2/
LOCATION:TPHS Proscenium Theatre\, 3710 Del Mar Heights Road\, San Diego\, CA\, 92130\, United States
CATEGORIES:Foundation Events,Parent Events,TPHS Events
ATTACH;FMTTYPE=image/webp:https://torreypinesfoundation.org/wp-content/uploads/2025/09/SOCIAL-Fall-for-Dance.webp
ORGANIZER;CN="Sarah Kaye":MAILTO:sarah.kaye@sduhsd.net
END:VEVENT
BEGIN:VEVENT
DTSTART;TZID=America/Los_Angeles:20251004T190000
DTEND;TZID=America/Los_Angeles:20251004T203000
DTSTAMP:20260424T141848
CREATED:20250909T204531Z
LAST-MODIFIED:20250929T192047Z
UID:10000564-1759604400-1759609800@torreypinesfoundation.org
SUMMARY:Fall For Dance
DESCRIPTION:TP Dance Company presents “Fall For Dance” \nPlease arrive on time.  Doors will close at show time. \nPURCHASE TICKETS HERE \nQuestions: dancepe@tphsfoundation.org \nFlower Bouquets may be purchased HERE.
URL:https://torreypinesfoundation.org/event/fall-for-dance-copy/
LOCATION:TPHS Proscenium Theatre\, 3710 Del Mar Heights Road\, San Diego\, CA\, 92130\, United States
CATEGORIES:Foundation Events,Parent Events,TPHS Events
ATTACH;FMTTYPE=image/webp:https://torreypinesfoundation.org/wp-content/uploads/2025/09/SOCIAL-Fall-for-Dance.webp
ORGANIZER;CN="Sarah Kaye":MAILTO:sarah.kaye@sduhsd.net
END:VEVENT
BEGIN:VEVENT
DTSTART;TZID=America/Los_Angeles:20251015T090000
DTEND;TZID=America/Los_Angeles:20251015T100000
DTSTAMP:20260424T141848
CREATED:20250901T162253Z
LAST-MODIFIED:20251014T003011Z
UID:10000559-1760518800-1760522400@torreypinesfoundation.org
SUMMARY:TP Parent Hike
DESCRIPTION:Join us at the San Elijo Lagoon Ecological Reserve.  Meet other TP parents and get involved!
URL:https://torreypinesfoundation.org/event/tp-parent-hike-2/
LOCATION:San Elijo Lagoon
CATEGORIES:Foundation Events,Parent Events,TPHS Events
ATTACH;FMTTYPE=image/webp:https://torreypinesfoundation.org/wp-content/uploads/2025/09/Parent-Hike-SELagoon.webp
END:VEVENT
BEGIN:VEVENT
DTSTART;TZID=America/Los_Angeles:20251028T190000
DTEND;TZID=America/Los_Angeles:20251028T210000
DTSTAMP:20260424T141848
CREATED:20251008T231219Z
LAST-MODIFIED:20251014T003047Z
UID:10000590-1761678000-1761685200@torreypinesfoundation.org
SUMMARY:TP Parents Night Out at En Fuego in Del Mar
DESCRIPTION:TP Parents Night Out – At En Fuego in Del Mar on Tuesday\, October 28th at 7:00 pm. No host bar and Taco Tuesday specials. Join us to have some fun and get to know other TP parents. (1342 Camino Del Mar\, Del Mar)
URL:https://torreypinesfoundation.org/event/tp-parents-night-out-at-en-fuego-in-del-mar/
LOCATION:En Fuego Del Mar\, 1342 Camino Del Mar\, Del Mar\, CA\, 92014\, United States
CATEGORIES:Foundation Events,Parent Events,TPHS Events
ATTACH;FMTTYPE=image/webp:https://torreypinesfoundation.org/wp-content/uploads/2025/09/Eblast-Parents-Night-Out.webp
END:VEVENT
END:VCALENDAR