BEGIN:VCALENDAR
VERSION:2.0
PRODID:-//Torrey Pines High School Foundation - ECPv6.15.20//NONSGML v1.0//EN
CALSCALE:GREGORIAN
METHOD:PUBLISH
X-WR-CALNAME:Torrey Pines High School Foundation
X-ORIGINAL-URL:https://torreypinesfoundation.org
X-WR-CALDESC:Events for Torrey Pines High School Foundation
REFRESH-INTERVAL;VALUE=DURATION:PT1H
X-Robots-Tag:noindex
X-PUBLISHED-TTL:PT1H
BEGIN:VTIMEZONE
TZID:America/Los_Angeles
BEGIN:DAYLIGHT
TZOFFSETFROM:-0800
TZOFFSETTO:-0700
TZNAME:PDT
DTSTART:20240310T100000
END:DAYLIGHT
BEGIN:STANDARD
TZOFFSETFROM:-0700
TZOFFSETTO:-0800
TZNAME:PST
DTSTART:20241103T090000
END:STANDARD
BEGIN:DAYLIGHT
TZOFFSETFROM:-0800
TZOFFSETTO:-0700
TZNAME:PDT
DTSTART:20250309T100000
END:DAYLIGHT
BEGIN:STANDARD
TZOFFSETFROM:-0700
TZOFFSETTO:-0800
TZNAME:PST
DTSTART:20251102T090000
END:STANDARD
BEGIN:DAYLIGHT
TZOFFSETFROM:-0800
TZOFFSETTO:-0700
TZNAME:PDT
DTSTART:20260308T100000
END:DAYLIGHT
BEGIN:STANDARD
TZOFFSETFROM:-0700
TZOFFSETTO:-0800
TZNAME:PST
DTSTART:20261101T090000
END:STANDARD
END:VTIMEZONE
BEGIN:VEVENT
DTSTART;TZID=America/Los_Angeles:20250501T193000
DTEND;TZID=America/Los_Angeles:20250501T210000
DTSTAMP:20260421T092611
CREATED:20250429T190023Z
LAST-MODIFIED:20250430T161409Z
UID:10000539-1746127800-1746133200@torreypinesfoundation.org
SUMMARY:TP Players Presents "Lend Me A Tenor"
DESCRIPTION:TP Players presents Ken Ludwig’s “Lend Me A Tenor” in the TPHS Black Box Theatre. Tickets are $10 online and $15 at the door. \nPurchase your tickets HERE
URL:https://torreypinesfoundation.org/event/tp-players-presents-lend-me-a-tenor/2025-05-01/
LOCATION:TPHS Black Box Theater
CATEGORIES:Parent Events,TPHS Events
ATTACH;FMTTYPE=image/jpeg:https://torreypinesfoundation.org/wp-content/uploads/2025/04/Lend-me-a-tonor-with-correct-QR-code.jpg
END:VEVENT
BEGIN:VEVENT
DTSTART;TZID=America/Los_Angeles:20250430T193000
DTEND;TZID=America/Los_Angeles:20250430T210000
DTSTAMP:20260421T092611
CREATED:20250429T190023Z
LAST-MODIFIED:20250430T161409Z
UID:10000538-1746041400-1746046800@torreypinesfoundation.org
SUMMARY:TP Players Presents "Lend Me A Tenor"
DESCRIPTION:TP Players presents Ken Ludwig’s “Lend Me A Tenor” in the TPHS Black Box Theatre. Tickets are $10 online and $15 at the door. \nPurchase your tickets HERE
URL:https://torreypinesfoundation.org/event/tp-players-presents-lend-me-a-tenor/2025-04-30/
LOCATION:TPHS Black Box Theater
CATEGORIES:Parent Events,TPHS Events
ATTACH;FMTTYPE=image/jpeg:https://torreypinesfoundation.org/wp-content/uploads/2025/04/Lend-me-a-tonor-with-correct-QR-code.jpg
END:VEVENT
END:VCALENDAR