BEGIN:VCALENDAR
VERSION:2.0
PRODID:-//Torrey Pines High School Foundation - ECPv6.15.20//NONSGML v1.0//EN
CALSCALE:GREGORIAN
METHOD:PUBLISH
X-WR-CALNAME:Torrey Pines High School Foundation
X-ORIGINAL-URL:https://torreypinesfoundation.org
X-WR-CALDESC:Events for Torrey Pines High School Foundation
REFRESH-INTERVAL;VALUE=DURATION:PT1H
X-Robots-Tag:noindex
X-PUBLISHED-TTL:PT1H
BEGIN:VTIMEZONE
TZID:America/Los_Angeles
BEGIN:DAYLIGHT
TZOFFSETFROM:-0800
TZOFFSETTO:-0700
TZNAME:PDT
DTSTART:20250309T100000
END:DAYLIGHT
BEGIN:STANDARD
TZOFFSETFROM:-0700
TZOFFSETTO:-0800
TZNAME:PST
DTSTART:20251102T090000
END:STANDARD
BEGIN:DAYLIGHT
TZOFFSETFROM:-0800
TZOFFSETTO:-0700
TZNAME:PDT
DTSTART:20260308T100000
END:DAYLIGHT
BEGIN:STANDARD
TZOFFSETFROM:-0700
TZOFFSETTO:-0800
TZNAME:PST
DTSTART:20261101T090000
END:STANDARD
BEGIN:DAYLIGHT
TZOFFSETFROM:-0800
TZOFFSETTO:-0700
TZNAME:PDT
DTSTART:20270314T100000
END:DAYLIGHT
BEGIN:STANDARD
TZOFFSETFROM:-0700
TZOFFSETTO:-0800
TZNAME:PST
DTSTART:20271107T090000
END:STANDARD
END:VTIMEZONE
BEGIN:VEVENT
DTSTART;TZID=America/Los_Angeles:20260509T163000
DTEND;TZID=America/Los_Angeles:20260509T203000
DTSTAMP:20260421T165103
CREATED:20260420T191108Z
LAST-MODIFIED:20260420T193601Z
UID:10000609-1778344200-1778358600@torreypinesfoundation.org
SUMMARY:TPHS Arts Festival 2026
DESCRIPTION:Presale Tickets Only \nStudent Art Gallery Friday and Saturday 4:30 PM – 6:30 PM \nDance\, Music & Theater Presentation 7:00 PM \n 
URL:https://torreypinesfoundation.org/event/tphs-arts-festival-2026/2026-05-09/
LOCATION:TPHS Performing Arts Center (PAC)\, 3710 Del Mar Heights Road\, San Diego\, CA\, 92130\, United States
CATEGORIES:TPHS Events
ATTACH;FMTTYPE=image/png:https://torreypinesfoundation.org/wp-content/uploads/2026/04/9BA73D73-354D-4ECE-AEDC-258755EF33A2.png
END:VEVENT
END:VCALENDAR