BEGIN:VCALENDAR
VERSION:2.0
PRODID:-//Torrey Pines High School Foundation - ECPv6.15.20//NONSGML v1.0//EN
CALSCALE:GREGORIAN
METHOD:PUBLISH
X-ORIGINAL-URL:https://torreypinesfoundation.org
X-WR-CALDESC:Events for Torrey Pines High School Foundation
REFRESH-INTERVAL;VALUE=DURATION:PT1H
X-Robots-Tag:noindex
X-PUBLISHED-TTL:PT1H
BEGIN:VTIMEZONE
TZID:America/Los_Angeles
BEGIN:DAYLIGHT
TZOFFSETFROM:-0800
TZOFFSETTO:-0700
TZNAME:PDT
DTSTART:20240310T100000
END:DAYLIGHT
BEGIN:STANDARD
TZOFFSETFROM:-0700
TZOFFSETTO:-0800
TZNAME:PST
DTSTART:20241103T090000
END:STANDARD
BEGIN:DAYLIGHT
TZOFFSETFROM:-0800
TZOFFSETTO:-0700
TZNAME:PDT
DTSTART:20250309T100000
END:DAYLIGHT
BEGIN:STANDARD
TZOFFSETFROM:-0700
TZOFFSETTO:-0800
TZNAME:PST
DTSTART:20251102T090000
END:STANDARD
BEGIN:DAYLIGHT
TZOFFSETFROM:-0800
TZOFFSETTO:-0700
TZNAME:PDT
DTSTART:20260308T100000
END:DAYLIGHT
BEGIN:STANDARD
TZOFFSETFROM:-0700
TZOFFSETTO:-0800
TZNAME:PST
DTSTART:20261101T090000
END:STANDARD
END:VTIMEZONE
BEGIN:VEVENT
DTSTART;TZID=America/Los_Angeles:20250920T090000
DTEND;TZID=America/Los_Angeles:20250920T110000
DTSTAMP:20260419T082409
CREATED:20250910T192926Z
LAST-MODIFIED:20250919T221121Z
UID:10000565-1758358800-1758366000@torreypinesfoundation.org
SUMMARY:Campus Cleanup
DESCRIPTION:POSTPONED TO A LATER DATE\nWe need all hands on deck for this year’s 1st campus cleanup. Join us Saturday\, 9/20\, 9-11 and meet in front of the PAC. Gloves\, trash bags & water provided. All student groups\, teams\, parents & supporters – come show your falcon pride! \nFor questions contact boyslacrosse@tphsfoundation.org 
URL:https://torreypinesfoundation.org/event/campus-cleanup-2/
LOCATION:TPHS\, 3710 Del Mar Heights Rd\, San Diego\, CA\, 92130\, United States
CATEGORIES:Foundation Events,Parent Events,TPHS Events
ATTACH;FMTTYPE=image/webp:https://torreypinesfoundation.org/wp-content/uploads/2025/09/TPHS-CAmpus-Cleanup.webp
END:VEVENT
BEGIN:VEVENT
DTSTART;TZID=America/Los_Angeles:20250811T080000
DTEND;TZID=America/Los_Angeles:20250811T093000
DTSTAMP:20260419T082409
CREATED:20250805T163036Z
LAST-MODIFIED:20250805T163206Z
UID:10000548-1754899200-1754904600@torreypinesfoundation.org
SUMMARY:Freshman Parent Orientation & Meeting with the Principal
DESCRIPTION:Welcome Freshman Parents – Drop off your new falcon and come meet other new TP parents in front of the Performing Arts Center for coffee and parent resources.  Principal Rob Coppo will be speaking to our incoming parents and providing you with the information that you need to start of the Fall semester strong!
URL:https://torreypinesfoundation.org/event/freshman-parent-orientation-meeting-with-the-principal/
LOCATION:TPHS Performing Arts Center (PAC)\, 3710 Del Mar Heights Road\, San Diego\, CA\, 92130\, United States
CATEGORIES:Parent Events,TPHS Events
ATTACH;FMTTYPE=image/webp:https://torreypinesfoundation.org/wp-content/uploads/2025/08/Parent-Welcome-Orientation.webp
END:VEVENT
END:VCALENDAR