BEGIN:VCALENDAR
VERSION:2.0
PRODID:-//Torrey Pines High School Foundation - ECPv6.15.20//NONSGML v1.0//EN
CALSCALE:GREGORIAN
METHOD:PUBLISH
X-ORIGINAL-URL:https://torreypinesfoundation.org
X-WR-CALDESC:Events for Torrey Pines High School Foundation
REFRESH-INTERVAL;VALUE=DURATION:PT1H
X-Robots-Tag:noindex
X-PUBLISHED-TTL:PT1H
BEGIN:VTIMEZONE
TZID:America/Los_Angeles
BEGIN:DAYLIGHT
TZOFFSETFROM:-0800
TZOFFSETTO:-0700
TZNAME:PDT
DTSTART:20240310T100000
END:DAYLIGHT
BEGIN:STANDARD
TZOFFSETFROM:-0700
TZOFFSETTO:-0800
TZNAME:PST
DTSTART:20241103T090000
END:STANDARD
BEGIN:DAYLIGHT
TZOFFSETFROM:-0800
TZOFFSETTO:-0700
TZNAME:PDT
DTSTART:20250309T100000
END:DAYLIGHT
BEGIN:STANDARD
TZOFFSETFROM:-0700
TZOFFSETTO:-0800
TZNAME:PST
DTSTART:20251102T090000
END:STANDARD
BEGIN:DAYLIGHT
TZOFFSETFROM:-0800
TZOFFSETTO:-0700
TZNAME:PDT
DTSTART:20260308T100000
END:DAYLIGHT
BEGIN:STANDARD
TZOFFSETFROM:-0700
TZOFFSETTO:-0800
TZNAME:PST
DTSTART:20261101T090000
END:STANDARD
END:VTIMEZONE
BEGIN:VEVENT
DTSTART;TZID=America/Los_Angeles:20251205T190000
DTEND;TZID=America/Los_Angeles:20251205T203000
DTSTAMP:20260425T061750
CREATED:20251125T195759Z
LAST-MODIFIED:20251125T195800Z
UID:10000592-1764961200-1764966600@torreypinesfoundation.org
SUMMARY:TPHS Dance Company - Expression Session
DESCRIPTION:This event is not to be missed.  Tickets can be purchased HERE.
URL:https://torreypinesfoundation.org/event/tphs-dance-company-expression-session/2025-12-05/
LOCATION:TPHS Performing Arts Center (PAC)\, 3710 Del Mar Heights Road\, San Diego\, CA\, 92130\, United States
CATEGORIES:Foundation Events,Parent Events,TPHS Events
ATTACH;FMTTYPE=image/webp:https://torreypinesfoundation.org/wp-content/uploads/2025/11/Expression-Session-25-Poster.webp
ORGANIZER;CN="Sarah Kaye":MAILTO:sarah.kaye@sduhsd.net
END:VEVENT
BEGIN:VEVENT
DTSTART;TZID=America/Los_Angeles:20251206T163000
DTEND;TZID=America/Los_Angeles:20251206T180000
DTSTAMP:20260425T061750
CREATED:20251125T195759Z
LAST-MODIFIED:20251125T195800Z
UID:10000593-1765038600-1765044000@torreypinesfoundation.org
SUMMARY:TPHS Dance Company - Expression Session
DESCRIPTION:This event is not to be missed.  Tickets can be purchased HERE.
URL:https://torreypinesfoundation.org/event/tphs-dance-company-expression-session/2025-12-06/1/
LOCATION:TPHS Performing Arts Center (PAC)\, 3710 Del Mar Heights Road\, San Diego\, CA\, 92130\, United States
CATEGORIES:Foundation Events,Parent Events,TPHS Events
ATTACH;FMTTYPE=image/webp:https://torreypinesfoundation.org/wp-content/uploads/2025/11/Expression-Session-25-Poster.webp
ORGANIZER;CN="Sarah Kaye":MAILTO:sarah.kaye@sduhsd.net
END:VEVENT
BEGIN:VEVENT
DTSTART;TZID=America/Los_Angeles:20251206T190000
DTEND;TZID=America/Los_Angeles:20251206T203000
DTSTAMP:20260425T061750
CREATED:20251125T195759Z
LAST-MODIFIED:20251125T195800Z
UID:10000594-1765047600-1765053000@torreypinesfoundation.org
SUMMARY:TPHS Dance Company - Expression Session
DESCRIPTION:This event is not to be missed.  Tickets can be purchased HERE.
URL:https://torreypinesfoundation.org/event/tphs-dance-company-expression-session/2025-12-06/2/
LOCATION:TPHS Performing Arts Center (PAC)\, 3710 Del Mar Heights Road\, San Diego\, CA\, 92130\, United States
CATEGORIES:Foundation Events,Parent Events,TPHS Events
ATTACH;FMTTYPE=image/webp:https://torreypinesfoundation.org/wp-content/uploads/2025/11/Expression-Session-25-Poster.webp
ORGANIZER;CN="Sarah Kaye":MAILTO:sarah.kaye@sduhsd.net
END:VEVENT
BEGIN:VEVENT
DTSTART;TZID=America/Los_Angeles:20251210T190000
DTEND;TZID=America/Los_Angeles:20251210T210000
DTSTAMP:20260425T061750
CREATED:20251125T200153Z
LAST-MODIFIED:20251125T200153Z
UID:10000595-1765393200-1765400400@torreypinesfoundation.org
SUMMARY:TPHS Music Department - Winter Concert
DESCRIPTION:Winter Concert and Poinsettia Drawing! \nDecember 10\, 2025 \n7:00 pm \nTPHS PAC \nSuggested donation $10 per adult at the door \nFull Orchestra\, Orchestra\, Band & Jazz Band will perform
URL:https://torreypinesfoundation.org/event/tphs-music-department-winter-concert/
LOCATION:TPHS Performing Arts Center (PAC)\, 3710 Del Mar Heights Road\, San Diego\, CA\, 92130\, United States
CATEGORIES:Parent Events,TPHS Events
ATTACH;FMTTYPE=image/webp:https://torreypinesfoundation.org/wp-content/uploads/2025/11/Winter-Concert-Poster.webp
ORGANIZER;CN="Amy Gelb":MAILTO:amy.gelb@sduhsd.net
END:VEVENT
END:VCALENDAR