BEGIN:VCALENDAR
VERSION:2.0
PRODID:-//Torrey Pines High School Foundation - ECPv6.15.20//NONSGML v1.0//EN
CALSCALE:GREGORIAN
METHOD:PUBLISH
X-WR-CALNAME:Torrey Pines High School Foundation
X-ORIGINAL-URL:https://torreypinesfoundation.org
X-WR-CALDESC:Events for Torrey Pines High School Foundation
REFRESH-INTERVAL;VALUE=DURATION:PT1H
X-Robots-Tag:noindex
X-PUBLISHED-TTL:PT1H
BEGIN:VTIMEZONE
TZID:America/Los_Angeles
BEGIN:DAYLIGHT
TZOFFSETFROM:-0800
TZOFFSETTO:-0700
TZNAME:PDT
DTSTART:20240310T100000
END:DAYLIGHT
BEGIN:STANDARD
TZOFFSETFROM:-0700
TZOFFSETTO:-0800
TZNAME:PST
DTSTART:20241103T090000
END:STANDARD
BEGIN:DAYLIGHT
TZOFFSETFROM:-0800
TZOFFSETTO:-0700
TZNAME:PDT
DTSTART:20250309T100000
END:DAYLIGHT
BEGIN:STANDARD
TZOFFSETFROM:-0700
TZOFFSETTO:-0800
TZNAME:PST
DTSTART:20251102T090000
END:STANDARD
BEGIN:DAYLIGHT
TZOFFSETFROM:-0800
TZOFFSETTO:-0700
TZNAME:PDT
DTSTART:20260308T100000
END:DAYLIGHT
BEGIN:STANDARD
TZOFFSETFROM:-0700
TZOFFSETTO:-0800
TZNAME:PST
DTSTART:20261101T090000
END:STANDARD
END:VTIMEZONE
BEGIN:VEVENT
DTSTART;TZID=America/Los_Angeles:20251028T190000
DTEND;TZID=America/Los_Angeles:20251028T210000
DTSTAMP:20260419T054222
CREATED:20251008T231219Z
LAST-MODIFIED:20251014T003047Z
UID:10000590-1761678000-1761685200@torreypinesfoundation.org
SUMMARY:TP Parents Night Out at En Fuego in Del Mar
DESCRIPTION:TP Parents Night Out – At En Fuego in Del Mar on Tuesday\, October 28th at 7:00 pm. No host bar and Taco Tuesday specials. Join us to have some fun and get to know other TP parents. (1342 Camino Del Mar\, Del Mar)
URL:https://torreypinesfoundation.org/event/tp-parents-night-out-at-en-fuego-in-del-mar/
LOCATION:En Fuego Del Mar\, 1342 Camino Del Mar\, Del Mar\, CA\, 92014\, United States
CATEGORIES:Foundation Events,Parent Events,TPHS Events
ATTACH;FMTTYPE=image/webp:https://torreypinesfoundation.org/wp-content/uploads/2025/09/Eblast-Parents-Night-Out.webp
END:VEVENT
BEGIN:VEVENT
DTSTART;TZID=America/Los_Angeles:20251023T173000
DTEND;TZID=America/Los_Angeles:20251023T190000
DTSTAMP:20260419T054222
CREATED:20250911T181617Z
LAST-MODIFIED:20250911T181617Z
UID:10000568-1761240600-1761246000@torreypinesfoundation.org
SUMMARY:TPHS Foundation Board of Directors Meeting - October
DESCRIPTION:TPHS Foundation Board of Directors monthly meeting.
URL:https://torreypinesfoundation.org/event/tphs-foundation-board-of-directors-meeting-october/
LOCATION:TPHS\, 3710 Del Mar Heights Rd\, San Diego\, CA\, 92130\, United States
CATEGORIES:Foundation Events
ATTACH;FMTTYPE=image/webp:https://torreypinesfoundation.org/wp-content/uploads/2025/09/Board-of-Directors.webp
END:VEVENT
BEGIN:VEVENT
DTSTART;TZID=America/Los_Angeles:20251015T090000
DTEND;TZID=America/Los_Angeles:20251015T100000
DTSTAMP:20260419T054222
CREATED:20250901T162253Z
LAST-MODIFIED:20251014T003011Z
UID:10000559-1760518800-1760522400@torreypinesfoundation.org
SUMMARY:TP Parent Hike
DESCRIPTION:Join us at the San Elijo Lagoon Ecological Reserve.  Meet other TP parents and get involved!
URL:https://torreypinesfoundation.org/event/tp-parent-hike-2/
LOCATION:San Elijo Lagoon
CATEGORIES:Foundation Events,Parent Events,TPHS Events
ATTACH;FMTTYPE=image/webp:https://torreypinesfoundation.org/wp-content/uploads/2025/09/Parent-Hike-SELagoon.webp
END:VEVENT
BEGIN:VEVENT
DTSTART;TZID=America/Los_Angeles:20251014T170000
DTEND;TZID=America/Los_Angeles:20251014T183000
DTSTAMP:20260419T054222
CREATED:20250911T185937Z
LAST-MODIFIED:20250911T185956Z
UID:10000587-1760461200-1760466600@torreypinesfoundation.org
SUMMARY:TPHS Foundation Executive Committee Meeting - October
DESCRIPTION:TPHS Foundation Executive Committee monthly meeting.
URL:https://torreypinesfoundation.org/event/tphs-foundation-executive-committee-meeting-october/
LOCATION:TPHS\, 3710 Del Mar Heights Rd\, San Diego\, CA\, 92130\, United States
CATEGORIES:Foundation Events
ATTACH;FMTTYPE=image/webp:https://torreypinesfoundation.org/wp-content/uploads/2025/09/Exec-Committee.webp
END:VEVENT
BEGIN:VEVENT
DTSTART;TZID=America/Los_Angeles:20251009T160000
DTEND;TZID=America/Los_Angeles:20251009T173000
DTSTAMP:20260419T054222
CREATED:20250911T182510Z
LAST-MODIFIED:20250911T182510Z
UID:10000577-1760025600-1760031000@torreypinesfoundation.org
SUMMARY:TPHS Foundation Finance Committee Meeting - October
DESCRIPTION:TPHS Foundation Finance Committee monthly meeting.
URL:https://torreypinesfoundation.org/event/tphs-foundation-finance-committee-meeting-october/
LOCATION:TPHS\, 3710 Del Mar Heights Rd\, San Diego\, CA\, 92130\, United States
CATEGORIES:Foundation Events
ATTACH;FMTTYPE=image/webp:https://torreypinesfoundation.org/wp-content/uploads/2025/09/BOD-Finance-.webp
END:VEVENT
BEGIN:VEVENT
DTSTART;TZID=America/Los_Angeles:20250925T173000
DTEND;TZID=America/Los_Angeles:20250925T190000
DTSTAMP:20260419T054222
CREATED:20250911T181406Z
LAST-MODIFIED:20250911T181529Z
UID:10000567-1758821400-1758826800@torreypinesfoundation.org
SUMMARY:TPHS Foundation Board of Directors Meeting - September
DESCRIPTION:TPHS Foundation Board of Directors monthly meeting.
URL:https://torreypinesfoundation.org/event/tphs-foundation-board-of-directors-meeting-copy/
LOCATION:TPHS\, 3710 Del Mar Heights Rd\, San Diego\, CA\, 92130\, United States
CATEGORIES:Foundation Events
ATTACH;FMTTYPE=image/webp:https://torreypinesfoundation.org/wp-content/uploads/2025/09/Board-of-Directors.webp
END:VEVENT
BEGIN:VEVENT
DTSTART;TZID=America/Los_Angeles:20250916T170000
DTEND;TZID=America/Los_Angeles:20250916T183000
DTSTAMP:20260419T054222
CREATED:20250911T185847Z
LAST-MODIFIED:20250911T185847Z
UID:10000586-1758042000-1758047400@torreypinesfoundation.org
SUMMARY:TPHS Foundation Executive Committee Meeting - September
DESCRIPTION:TPHS Foundation Executive Committee monthly meeting.
URL:https://torreypinesfoundation.org/event/tphs-foundation-executive-committee-meeting-september/
LOCATION:TPHS\, 3710 Del Mar Heights Rd\, San Diego\, CA\, 92130\, United States
CATEGORIES:Foundation Events
ATTACH;FMTTYPE=image/webp:https://torreypinesfoundation.org/wp-content/uploads/2025/09/Exec-Committee.webp
END:VEVENT
BEGIN:VEVENT
DTSTART;TZID=America/Los_Angeles:20250911T160000
DTEND;TZID=America/Los_Angeles:20250911T173000
DTSTAMP:20260419T054222
CREATED:20250911T182429Z
LAST-MODIFIED:20250911T182429Z
UID:10000576-1757606400-1757611800@torreypinesfoundation.org
SUMMARY:TPHS Foundation Finance Committee Meeting - September
DESCRIPTION:TPHS Foundation Finance Committee monthly meeting.
URL:https://torreypinesfoundation.org/event/tphs-foundation-finance-committee-meeting-september/
LOCATION:TPHS\, 3710 Del Mar Heights Rd\, San Diego\, CA\, 92130\, United States
CATEGORIES:Foundation Events
ATTACH;FMTTYPE=image/webp:https://torreypinesfoundation.org/wp-content/uploads/2025/09/BOD-Finance-.webp
END:VEVENT
BEGIN:VEVENT
DTSTART;TZID=America/Los_Angeles:20250828T173000
DTEND;TZID=America/Los_Angeles:20250828T190000
DTSTAMP:20260419T054222
CREATED:20250911T181149Z
LAST-MODIFIED:20250911T181150Z
UID:10000566-1756402200-1756407600@torreypinesfoundation.org
SUMMARY:TPHS Foundation Board of Directors Meeting
DESCRIPTION:TPHS Foundation Board of Directors monthly meeting.
URL:https://torreypinesfoundation.org/event/tphs-foundation-board-of-directors-meeting/
LOCATION:TPHS\, 3710 Del Mar Heights Rd\, San Diego\, CA\, 92130\, United States
CATEGORIES:Foundation Events
ATTACH;FMTTYPE=image/webp:https://torreypinesfoundation.org/wp-content/uploads/2025/09/Board-of-Directors.webp
END:VEVENT
BEGIN:VEVENT
DTSTART;TZID=America/Los_Angeles:20250819T170000
DTEND;TZID=America/Los_Angeles:20250819T183000
DTSTAMP:20260419T054222
CREATED:20250911T185733Z
LAST-MODIFIED:20250911T185733Z
UID:10000585-1755622800-1755628200@torreypinesfoundation.org
SUMMARY:TPHS Foundation Executive Committee Meeting - August
DESCRIPTION:TPHS Foundation Executive Committee monthly meeting.
URL:https://torreypinesfoundation.org/event/tphs-foundation-executive-committee-meeting-august/
LOCATION:TPHS\, 3710 Del Mar Heights Rd\, San Diego\, CA\, 92130\, United States
CATEGORIES:Foundation Events
ATTACH;FMTTYPE=image/webp:https://torreypinesfoundation.org/wp-content/uploads/2025/09/Exec-Committee.webp
END:VEVENT
BEGIN:VEVENT
DTSTART;TZID=America/Los_Angeles:20250814T160000
DTEND;TZID=America/Los_Angeles:20250814T173000
DTSTAMP:20260419T054222
CREATED:20250911T182243Z
LAST-MODIFIED:20250911T182243Z
UID:10000575-1755187200-1755192600@torreypinesfoundation.org
SUMMARY:TPHS Foundation Finance Committee Meeting - August
DESCRIPTION:TPHS Foundation Finance Committee monthly meeting.
URL:https://torreypinesfoundation.org/event/tphs-foundation-finance-committee-meeting-august/
LOCATION:TPHS\, 3710 Del Mar Heights Rd\, San Diego\, CA\, 92130\, United States
CATEGORIES:Foundation Events
ATTACH;FMTTYPE=image/webp:https://torreypinesfoundation.org/wp-content/uploads/2025/09/BOD-Finance-.webp
END:VEVENT
BEGIN:VEVENT
DTSTART;TZID=America/Los_Angeles:20250505T120000
DTEND;TZID=America/Los_Angeles:20250505T140000
DTSTAMP:20260419T054222
CREATED:20250411T202541Z
LAST-MODIFIED:20250411T203321Z
UID:10000532-1746446400-1746453600@torreypinesfoundation.org
SUMMARY:TP Staff Appreciation Luncheon
DESCRIPTION:Special Event honoring our TP Staff members.  To sign up to bring items or volunteers please click HERE.
URL:https://torreypinesfoundation.org/event/tp-staff-appreciation-luncheon/
LOCATION:TPHS\, 3710 Del Mar Heights Rd\, San Diego\, CA\, 92130\, United States
CATEGORIES:Foundation Events,TPHS Events
ATTACH;FMTTYPE=image/jpeg:https://torreypinesfoundation.org/wp-content/uploads/2025/03/Cinco-Staff.jpg
END:VEVENT
BEGIN:VEVENT
DTSTART;TZID=America/Los_Angeles:20250418T170000
DTEND;TZID=America/Los_Angeles:20250418T200000
DTSTAMP:20260419T054222
CREATED:20250411T201747Z
LAST-MODIFIED:20250411T201901Z
UID:10000529-1744995600-1745006400@torreypinesfoundation.org
SUMMARY:Falcon Fund Donor Appreciation Event
DESCRIPTION:Our Donor Appreciation event is to honor and thank all those who have supported the education fund at the Bronze level or greater this school year.  There is still time to be a part of this event by making your annual contribution to the TPHS Falcon Fund HERE.
URL:https://torreypinesfoundation.org/event/falcon-fund-donor-appreciation-event/
LOCATION:Belly Up\, 143 S Cedros Ave\, Solana Beach\, CA\, 92075\, United States
CATEGORIES:Foundation Events,Parent Events
ATTACH;FMTTYPE=image/jpeg:https://torreypinesfoundation.org/wp-content/uploads/2025/04/24-25-Donor-Appreciation-Event-No-Code-2.jpg
END:VEVENT
END:VCALENDAR